BEGIN:VCALENDAR
VERSION:2.0
PRODID:-//ESRHU - ECPv6.10.2//NONSGML v1.0//EN
CALSCALE:GREGORIAN
METHOD:PUBLISH
X-WR-CALNAME:ESRHU
X-ORIGINAL-URL:https://esrhu.ch
X-WR-CALDESC:Évènements pour ESRHU
REFRESH-INTERVAL;VALUE=DURATION:PT1H
X-Robots-Tag:noindex
X-PUBLISHED-TTL:PT1H
BEGIN:VTIMEZONE
TZID:Europe/Paris
BEGIN:DAYLIGHT
TZOFFSETFROM:+0100
TZOFFSETTO:+0200
TZNAME:CEST
DTSTART:20250330T010000
END:DAYLIGHT
BEGIN:STANDARD
TZOFFSETFROM:+0200
TZOFFSETTO:+0100
TZNAME:CET
DTSTART:20251026T010000
END:STANDARD
END:VTIMEZONE
BEGIN:VEVENT
DTSTART;TZID=Europe/Paris:20250906T090000
DTEND;TZID=Europe/Paris:20250906T181500
DTSTAMP:20260423T202240
CREATED:20240118T153336Z
LAST-MODIFIED:20240118T153336Z
UID:5754-1757149200-1757182500@esrhu.ch
SUMMARY:Journée de révision
DESCRIPTION:Pour les étudiants de 2ème année du Cycle de base – ouvert également aux étudiants de 1ère année
URL:https://esrhu.ch/event/journee-de-revision-5/
LOCATION:La Sarraz
END:VEVENT
BEGIN:VEVENT
DTSTART;VALUE=DATE:20250920
DTEND;VALUE=DATE:20250921
DTSTAMP:20260423T202240
CREATED:20240118T153456Z
LAST-MODIFIED:20240118T153456Z
UID:5756-1758326400-1758412799@esrhu.ch
SUMMARY:Examen de fin de cycle
DESCRIPTION:Pour les étudiant-e-s ayant terminé le Cycle de base – sur inscription préalable
URL:https://esrhu.ch/event/examen-de-fin-de-cycle-3/
LOCATION:La Sarraz
END:VEVENT
END:VCALENDAR