BEGIN:VCALENDAR
VERSION:2.0
PRODID:-//ESRHU - ECPv6.10.2//NONSGML v1.0//EN
CALSCALE:GREGORIAN
METHOD:PUBLISH
X-ORIGINAL-URL:https://esrhu.ch
X-WR-CALDESC:Évènements pour ESRHU
REFRESH-INTERVAL;VALUE=DURATION:PT1H
X-Robots-Tag:noindex
X-PUBLISHED-TTL:PT1H
BEGIN:VTIMEZONE
TZID:Europe/Paris
BEGIN:DAYLIGHT
TZOFFSETFROM:+0100
TZOFFSETTO:+0200
TZNAME:CEST
DTSTART:20240331T010000
END:DAYLIGHT
BEGIN:STANDARD
TZOFFSETFROM:+0200
TZOFFSETTO:+0100
TZNAME:CET
DTSTART:20241027T010000
END:STANDARD
END:VTIMEZONE
BEGIN:VEVENT
DTSTART;VALUE=DATE:20240504
DTEND;VALUE=DATE:20240505
DTSTAMP:20260424T182757
CREATED:20230515T212903Z
LAST-MODIFIED:20240118T154046Z
UID:5536-1714780800-1714867199@esrhu.ch
SUMMARY:Samedi cas cliniques
DESCRIPTION:Pour les étudiant-e-s du Cycle de base
URL:https://esrhu.ch/event/samedi-cas-cliniques-10/
END:VEVENT
BEGIN:VEVENT
DTSTART;TZID=Europe/Paris:20240530T140000
DTEND;TZID=Europe/Paris:20240530T180000
DTSTAMP:20260424T182757
CREATED:20240118T155252Z
LAST-MODIFIED:20240202T113540Z
UID:5772-1717077600-1717092000@esrhu.ch
SUMMARY:Demi-journée Découverte de l'homéopathie
DESCRIPTION:Ce cours est destiné aux médecins\, pharmaciens\, vétérinaires\, chiropraticiens\, dentistes et assistants ou étudiants dans ces professions
URL:https://esrhu.ch/event/demi-journee-decouverte-de-lhomeopathie-13/
LOCATION:à définir
END:VEVENT
END:VCALENDAR