BEGIN:VCALENDAR
VERSION:2.0
PRODID:-//ESRHU - ECPv6.10.2//NONSGML v1.0//EN
CALSCALE:GREGORIAN
METHOD:PUBLISH
X-ORIGINAL-URL:https://esrhu.ch
X-WR-CALDESC:Évènements pour ESRHU
REFRESH-INTERVAL;VALUE=DURATION:PT1H
X-Robots-Tag:noindex
X-PUBLISHED-TTL:PT1H
BEGIN:VTIMEZONE
TZID:Europe/Paris
BEGIN:DAYLIGHT
TZOFFSETFROM:+0100
TZOFFSETTO:+0200
TZNAME:CEST
DTSTART:20240331T010000
END:DAYLIGHT
BEGIN:STANDARD
TZOFFSETFROM:+0200
TZOFFSETTO:+0100
TZNAME:CET
DTSTART:20241027T010000
END:STANDARD
END:VTIMEZONE
BEGIN:VEVENT
DTSTART;TZID=Europe/Paris:20240418T140000
DTEND;TZID=Europe/Paris:20240418T180000
DTSTAMP:20260424T164752
CREATED:20240118T155211Z
LAST-MODIFIED:20240118T155211Z
UID:5770-1713448800-1713463200@esrhu.ch
SUMMARY:Demi-journée Découverte de l'homéopathie
DESCRIPTION:Ce cours est destiné aux médecins\, pharmaciens\, vétérinaires\, chiropraticiens\, dentistes et assistants ou étudiants dans ces professions
URL:https://esrhu.ch/event/demi-journee-decouverte-de-lhomeopathie-12/
LOCATION:Lausanne
END:VEVENT
BEGIN:VEVENT
DTSTART;VALUE=DATE:20240427
DTEND;VALUE=DATE:20240429
DTSTAMP:20260424T164752
CREATED:20230515T212832Z
LAST-MODIFIED:20240118T154129Z
UID:5534-1714176000-1714348799@esrhu.ch
SUMMARY:Week-end de formation M9
DESCRIPTION:Pour les étudiant-e-s du Cycle de base
URL:https://esrhu.ch/event/week-end-de-formation-m9/
END:VEVENT
END:VCALENDAR