BEGIN:VCALENDAR
VERSION:2.0
PRODID:-//ESRHU - ECPv6.10.2//NONSGML v1.0//EN
CALSCALE:GREGORIAN
METHOD:PUBLISH
X-ORIGINAL-URL:https://esrhu.ch
X-WR-CALDESC:Évènements pour ESRHU
REFRESH-INTERVAL;VALUE=DURATION:PT1H
X-Robots-Tag:noindex
X-PUBLISHED-TTL:PT1H
BEGIN:VTIMEZONE
TZID:Europe/Paris
BEGIN:DAYLIGHT
TZOFFSETFROM:+0100
TZOFFSETTO:+0200
TZNAME:CEST
DTSTART:20240331T010000
END:DAYLIGHT
BEGIN:STANDARD
TZOFFSETFROM:+0200
TZOFFSETTO:+0100
TZNAME:CET
DTSTART:20241027T010000
END:STANDARD
END:VTIMEZONE
BEGIN:VEVENT
DTSTART;VALUE=DATE:20240302
DTEND;VALUE=DATE:20240304
DTSTAMP:20260424T145635
CREATED:20230515T212313Z
LAST-MODIFIED:20240118T154251Z
UID:5530-1709337600-1709510399@esrhu.ch
SUMMARY:Week-end de formation M8
DESCRIPTION:Pour les étudiant-e-s du Cycle de base
URL:https://esrhu.ch/event/week-end-de-formation-m8/
END:VEVENT
BEGIN:VEVENT
DTSTART;TZID=Europe/Paris:20240307T140000
DTEND;TZID=Europe/Paris:20240307T180000
DTSTAMP:20260424T145635
CREATED:20240118T155129Z
LAST-MODIFIED:20240118T155129Z
UID:5768-1709820000-1709834400@esrhu.ch
SUMMARY:Demi-journée Découverte de l'homéopathie
DESCRIPTION:Ce cours est destiné aux médecins\, pharmacien-ne-s\, vétérinaires\, chiropraticien-ne-s\, dentistes et assistant-e-s ou étudiant-e-s dans ces professions
URL:https://esrhu.ch/event/demi-journee-decouverte-de-lhomeopathie-11/
LOCATION:Lausanne
END:VEVENT
BEGIN:VEVENT
DTSTART;VALUE=DATE:20240316
DTEND;VALUE=DATE:20240317
DTSTAMP:20260424T145635
CREATED:20230515T212402Z
LAST-MODIFIED:20240118T154204Z
UID:5532-1710547200-1710633599@esrhu.ch
SUMMARY:Samedi cas cliniques
DESCRIPTION:Pour les étudiant-e-s du Cycle de base
URL:https://esrhu.ch/event/samedi-cas-cliniques-9/
END:VEVENT
END:VCALENDAR