BEGIN:VCALENDAR
VERSION:2.0
PRODID:-//ESRHU - ECPv6.10.2//NONSGML v1.0//EN
CALSCALE:GREGORIAN
METHOD:PUBLISH
X-ORIGINAL-URL:https://esrhu.ch
X-WR-CALDESC:Évènements pour ESRHU
REFRESH-INTERVAL;VALUE=DURATION:PT1H
X-Robots-Tag:noindex
X-PUBLISHED-TTL:PT1H
BEGIN:VTIMEZONE
TZID:Europe/Paris
BEGIN:DAYLIGHT
TZOFFSETFROM:+0100
TZOFFSETTO:+0200
TZNAME:CEST
DTSTART:20240331T010000
END:DAYLIGHT
BEGIN:STANDARD
TZOFFSETFROM:+0200
TZOFFSETTO:+0100
TZNAME:CET
DTSTART:20241027T010000
END:STANDARD
END:VTIMEZONE
BEGIN:VEVENT
DTSTART;TZID=Europe/Paris:20240204T100000
DTEND;TZID=Europe/Paris:20240204T140000
DTSTAMP:20260424T125124
CREATED:20240202T113845Z
LAST-MODIFIED:20240202T113845Z
UID:5779-1707040800-1707055200@esrhu.ch
SUMMARY:Intervision
DESCRIPTION:Rencontres informelles autour de cas cliniques à partager. \nToutes les informations dans nos actualités ou à info@esrhu.ch \n 
URL:https://esrhu.ch/event/intervision-3/
LOCATION:La Sarraz
END:VEVENT
END:VCALENDAR